BEGIN:VCALENDAR
VERSION:2.0
PRODID:-//Mississauga Guitar Lessons - GUITAR360 Online Guitar Academy - ECPv6.15.16//NONSGML v1.0//EN
CALSCALE:GREGORIAN
METHOD:PUBLISH
X-WR-CALNAME:Mississauga Guitar Lessons - GUITAR360 Online Guitar Academy
X-ORIGINAL-URL:https://guitar360.net
X-WR-CALDESC:Events for Mississauga Guitar Lessons - GUITAR360 Online Guitar Academy
REFRESH-INTERVAL;VALUE=DURATION:PT1H
X-Robots-Tag:noindex
X-PUBLISHED-TTL:PT1H
BEGIN:VTIMEZONE
TZID:UTC
BEGIN:STANDARD
TZOFFSETFROM:+0000
TZOFFSETTO:+0000
TZNAME:UTC
DTSTART:20220101T000000
END:STANDARD
END:VTIMEZONE
BEGIN:VEVENT
DTSTART;TZID=UTC:20230930T203000
DTEND;TZID=UTC:20230930T233000
DTSTAMP:20260423T175531
CREATED:20230814T055626Z
LAST-MODIFIED:20230814T055716Z
UID:1466-1696105800-1696116600@guitar360.net
SUMMARY:Retro Crush at Smokeshow BBQ and Brew
DESCRIPTION:
URL:https://guitar360.net/event/retro-crush-at-smokeshow-bbq-and-brew/
LOCATION:Smokeshow BBQ and Brew\, 744 Mt Pleasant Rd.\, Toronto\, Ontario\, M4S 2N6\, Canada
END:VEVENT
BEGIN:VEVENT
DTSTART;TZID=UTC:20230916T210000
DTEND;TZID=UTC:20230916T233000
DTSTAMP:20260423T175531
CREATED:20230814T055022Z
LAST-MODIFIED:20230814T055114Z
UID:1463-1694898000-1694907000@guitar360.net
SUMMARY:Retro Crush at Rad Brothers Milton
DESCRIPTION:
URL:https://guitar360.net/event/retro-crush-at-rad-brothers-milton/
LOCATION:Rad Brothers\, 550 Ontario St S\, Milton\, Ontario\, L9T 5E4\, Canada
END:VEVENT
BEGIN:VEVENT
DTSTART;TZID=UTC:20230909T180000
DTEND;TZID=UTC:20230909T190000
DTSTAMP:20260423T175531
CREATED:20230814T054652Z
LAST-MODIFIED:20230814T054652Z
UID:1461-1694282400-1694286000@guitar360.net
SUMMARY:Retro Crush at RadFest Milton
DESCRIPTION:
URL:https://guitar360.net/event/retro-crush-at-radfest-milton/
LOCATION:Ontario
END:VEVENT
BEGIN:VEVENT
DTSTART;TZID=UTC:20230820T200000
DTEND;TZID=UTC:20230820T230000
DTSTAMP:20260423T175531
CREATED:20230814T054522Z
LAST-MODIFIED:20230814T054522Z
UID:1458-1692561600-1692572400@guitar360.net
SUMMARY:Southern Gentlemen at Tail of the Junction
DESCRIPTION:
URL:https://guitar360.net/event/southern-gentlemen-at-tail-of-the-junction/
LOCATION:tail of the Junction\, 3367 Dundas St West\, Toronto\, Ontario\, M6S 2R9\, Canada
END:VEVENT
BEGIN:VEVENT
DTSTART;TZID=UTC:20230819T210000
DTEND;TZID=UTC:20230819T233000
DTSTAMP:20260423T175531
CREATED:20230814T004038Z
LAST-MODIFIED:20230814T004038Z
UID:1405-1692478800-1692487800@guitar360.net
SUMMARY:Southern Gentlemen at The Lismore Tavern Toronto
DESCRIPTION:
URL:https://guitar360.net/event/southern-gentlemen-at-the-lismore-tavern-toronto/
LOCATION:Lismore Tavern\, 1298 Danforth Ave\,\, Toronto\, Ontario\, M4J 1M6\, Canada
END:VEVENT
END:VCALENDAR